Package: widgetTools Version: 1.85.0 Command: /home/biocbuild/bbs-3.21-bioc/R/bin/R CMD INSTALL widgetTools StartedAt: 2025-02-04 15:03:37 -0500 (Tue, 04 Feb 2025) EndedAt: 2025-02-04 15:04:02 -0500 (Tue, 04 Feb 2025) EllapsedTime: 25.3 seconds RetCode: 0 Status: OK