Package: widgetTools
Version: 1.85.0
Command: /home/biocbuild/R/R/bin/R CMD check --install=check:widgetTools.install-out.txt --library=/home/biocbuild/R/R/site-library --no-vignettes --timings widgetTools_1.85.0.tar.gz
StartedAt: 2025-01-27 13:56:05 -0000 (Mon, 27 Jan 2025)
EndedAt: 2025-01-27 13:56:38 -0000 (Mon, 27 Jan 2025)
EllapsedTime: 33.0 seconds
RetCode: 0
Status: OK
CheckDir: widgetTools.Rcheck
Warnings: 0