Package: vtpnet Version: 0.47.0 Command: /home/biocbuild/bbs-3.21-bioc/R/bin/R CMD check --install=check:vtpnet.install-out.txt --library=/home/biocbuild/bbs-3.21-bioc/R/site-library --timings vtpnet_0.47.0.tar.gz StartedAt: 2025-02-01 03:36:59 -0500 (Sat, 01 Feb 2025) EndedAt: 2025-02-01 03:42:50 -0500 (Sat, 01 Feb 2025) EllapsedTime: 351.3 seconds RetCode: 0 Status: OK CheckDir: vtpnet.Rcheck Warnings: 0