Package: vtpnet Version: 0.47.0 Command: /Library/Frameworks/R.framework/Resources/bin/R CMD INSTALL vtpnet StartedAt: 2025-01-31 15:40:08 -0500 (Fri, 31 Jan 2025) EndedAt: 2025-01-31 15:41:11 -0500 (Fri, 31 Jan 2025) EllapsedTime: 62.4 seconds RetCode: 0 Status: OK