Package: vtpnet Version: 0.47.0 Command: /home/biocbuild/R/R/bin/R CMD build --keep-empty-dirs --no-resave-data vtpnet StartedAt: 2025-01-28 03:09:48 -0000 (Tue, 28 Jan 2025) EndedAt: 2025-01-28 03:11:43 -0000 (Tue, 28 Jan 2025) EllapsedTime: 115.0 seconds RetCode: 0 Status: OK PackageFile: vtpnet_0.47.0.tar.gz PackageFileSize: 20.22 MiB