Package: vissE
Version: 1.15.0
Command: E:\biocbuild\bbs-3.21-bioc\R\bin\R.exe CMD check --no-multiarch --install=check:vissE.install-out.txt --library=E:\biocbuild\bbs-3.21-bioc\R\library --no-vignettes --timings vissE_1.15.0.tar.gz
StartedAt: 2025-02-20 06:34:32 -0500 (Thu, 20 Feb 2025)
EndedAt: 2025-02-20 06:38:02 -0500 (Thu, 20 Feb 2025)
EllapsedTime: 209.2 seconds
RetCode: 0
Status: OK
CheckDir: vissE.Rcheck
Warnings: 0