##############################################################################
##############################################################################
###
### Running command:
###
###   E:\biocbuild\bbs-3.21-bioc\R\bin\R.exe CMD check --no-multiarch --install=check:vissE.install-out.txt --library=E:\biocbuild\bbs-3.21-bioc\R\library --no-vignettes --timings vissE_1.15.0.tar.gz
###
##############################################################################
##############################################################################


* using log directory 'E:/biocbuild/bbs-3.21-bioc/meat/vissE.Rcheck'
* using R Under development (unstable) (2025-01-21 r87610 ucrt)
* using platform: x86_64-w64-mingw32
* R was compiled by
    gcc.exe (GCC) 13.3.0
    GNU Fortran (GCC) 13.3.0
* running under: Windows Server 2022 x64 (build 20348)
* using session charset: UTF-8
* using option '--no-vignettes'
* checking for file 'vissE/DESCRIPTION' ... OK
* this is package 'vissE' version '1.15.0'
* package encoding: UTF-8
* checking package namespace information ... OK
* checking package dependencies ... OK
* checking if this is a source package ... OK
* checking if there is a namespace ... OK
* checking for hidden files and directories ... OK
* checking for portable file names ... OK
* checking whether package 'vissE' can be installed ... OK
* checking installed package size ... OK
* checking package directory ... OK
* checking 'build' directory ... OK
* checking DESCRIPTION meta-information ... OK
* checking top-level files ... OK
* checking for left-over files ... OK
* checking index information ... OK
* checking package subdirectories ... OK
* checking code files for non-ASCII characters ... OK
* checking R files for syntax errors ... OK
* checking whether the package can be loaded ... OK
* checking whether the package can be loaded with stated dependencies ... OK
* checking whether the package can be unloaded cleanly ... OK
* checking whether the namespace can be loaded with stated dependencies ... OK
* checking whether the namespace can be unloaded cleanly ... OK
* checking dependencies in R code ... OK
* checking S3 generic/method consistency ... OK
* checking replacement functions ... OK
* checking foreign function calls ... OK
* checking R code for possible problems ... NOTE
checkGroups: no visible global function definition for 'na.omit'
plotGeneStats: no visible binding for global variable 'Count'
plotGeneStats: no visible binding for global variable 'GeneStat'
plotGeneStats: no visible binding for global variable 'Gene'
plotMsigNetwork: no visible binding for global variable 'Size'
plotMsigNetwork: no visible binding for global variable 'Category'
plotMsigNetwork: no visible binding for global variable 'x'
plotMsigNetwork: no visible binding for global variable 'y'
plotMsigNetwork: no visible binding for global variable 'NodeGroup'
plotMsigPPI: no visible binding for global variable 'weight'
plotMsigPPI: no visible binding for global variable 'Degree'
plotMsigPPI: no visible binding for global variable 'label'
plotMsigPPI: no visible binding for global variable 'Label'
plotMsigWordcloud: no visible binding for global variable 'word'
plotMsigWordcloud: no visible binding for global variable 'freq'
plotMsigWordcloud: no visible binding for global variable 'angle'
Undefined global functions or variables:
  Category Count Degree Gene GeneStat Label NodeGroup Size angle freq
  label na.omit weight word x y
Consider adding
  importFrom("stats", "na.omit")
to your NAMESPACE file.
* checking Rd files ... OK
* checking Rd metadata ... OK
* checking Rd cross-references ... OK
* checking for missing documentation entries ... OK
* checking for code/documentation mismatches ... OK
* checking Rd \usage sections ... OK
* checking Rd contents ... OK
* checking for unstated dependencies in examples ... OK
* checking contents of 'data' directory ... OK
* checking data for non-ASCII characters ... OK
* checking LazyData ... NOTE
  'LazyDataCompression' is specified without 'LazyData'
* checking data for ASCII and uncompressed saves ... OK
* checking R/sysdata.rda ... OK
* checking files in 'vignettes' ... OK
* checking examples ... OK
Examples with CPU (user + system) or elapsed time > 5s
                     user system elapsed
computeMsigWordFreq 10.09   3.05   69.25
plotMsigPPI         10.55   0.33   12.04
plotMsigWordcloud    9.76   0.98   12.04
* checking for unstated dependencies in 'tests' ... OK
* checking tests ...
  Running 'testthat.R'
 OK
* checking for unstated dependencies in vignettes ... OK
* checking package vignettes ... OK
* checking running R code from vignettes ... SKIPPED
* checking re-building of vignette outputs ... SKIPPED
* checking PDF version of manual ... OK
* DONE

Status: 2 NOTEs
See
  'E:/biocbuild/bbs-3.21-bioc/meat/vissE.Rcheck/00check.log'
for details.