Package: vissE
Version: 1.15.0
Command: chmod a+r vissE -R && E:\biocbuild\bbs-3.21-bioc\R\bin\R.exe CMD build --keep-empty-dirs --no-resave-data vissE
StartedAt: 2025-02-19 22:16:14 -0500 (Wed, 19 Feb 2025)
EndedAt: 2025-02-19 22:24:57 -0500 (Wed, 19 Feb 2025)
EllapsedTime: 522.8 seconds
RetCode: 0
Status: OK
PackageFile: vissE_1.15.0.tar.gz
PackageFileSize: 989.2 <A href="http://en.wikipedia.org/wiki/KiB" target="_blank">KiB</A>