##############################################################################
##############################################################################
###
### Running command:
###
###   chmod a+r vissE -R && E:\biocbuild\bbs-3.21-bioc\R\bin\R.exe CMD build --keep-empty-dirs --no-resave-data vissE
###
##############################################################################
##############################################################################


* checking for file 'vissE/DESCRIPTION' ... OK
* preparing 'vissE':
* checking DESCRIPTION meta-information ... OK
* installing the package to build vignettes
* creating vignettes ... OK
* checking for LF line-endings in source and make files and shell scripts
* checking for empty or unneeded directories
* looking to see if a 'data/datalist' file should be added
* building 'vissE_1.15.0.tar.gz'