Package: vissE Version: 1.15.0 Command: rm -rf vissE.buildbin-libdir && mkdir vissE.buildbin-libdir && E:\biocbuild\bbs-3.21-bioc\R\bin\R.exe CMD INSTALL --build --library=vissE.buildbin-libdir vissE_1.15.0.tar.gz StartedAt: 2025-02-20 09:00:49 -0500 (Thu, 20 Feb 2025) EndedAt: 2025-02-20 09:01:04 -0500 (Thu, 20 Feb 2025) EllapsedTime: 14.6 seconds RetCode: 0 Status: OK PackageFile: vissE_1.15.0.zip PackageFileSize: 1.106 <A href="http://en.wikipedia.org/wiki/MiB" target="_blank">MiB</A>