Package: vissE
Version: 1.15.0
Command: /Library/Frameworks/R.framework/Resources/bin/R CMD build --keep-empty-dirs --no-resave-data vissE
StartedAt: 2025-02-19 18:36:58 -0500 (Wed, 19 Feb 2025)
EndedAt: 2025-02-19 18:43:19 -0500 (Wed, 19 Feb 2025)
EllapsedTime: 381.1 seconds
RetCode: 0
Status: OK
PackageFile: vissE_1.15.0.tar.gz
PackageFileSize: 1.649 <A href="http://en.wikipedia.org/wiki/MiB" target="_blank">MiB</A>