Package: vissE
Version: 1.15.0
Command: rm -rf vissE.buildbin-libdir && mkdir vissE.buildbin-libdir && /Users/biocbuild/BBS/utils/build-universal.sh vissE_1.15.0.tar.gz /Library/Frameworks/R.framework/Resources/bin/R vissE.buildbin-libdir
StartedAt: 2025-02-20 01:00:22 -0500 (Thu, 20 Feb 2025)
EndedAt: 2025-02-20 01:00:31 -0500 (Thu, 20 Feb 2025)
EllapsedTime: 9.2 seconds
RetCode: 0
Status: OK
PackageFile: vissE_1.15.0.tgz
PackageFileSize: 1.787 <A href="http://en.wikipedia.org/wiki/MiB" target="_blank">MiB</A>