Package: vissE
Version: 1.15.0
Command: /Library/Frameworks/R.framework/Resources/bin/R CMD INSTALL vissE
StartedAt: 2025-02-19 15:29:39 -0500 (Wed, 19 Feb 2025)
EndedAt: 2025-02-19 15:29:42 -0500 (Wed, 19 Feb 2025)
EllapsedTime: 2.0 seconds
RetCode: 0
Status: OK