Package: tximport
Version: 1.35.0
Command: /home/biocbuild/bbs-3.21-bioc/R/bin/R CMD check --install=check:tximport.install-out.txt --library=/home/biocbuild/bbs-3.21-bioc/R/site-library --timings tximport_1.35.0.tar.gz
StartedAt: 2025-02-20 03:25:57 -0500 (Thu, 20 Feb 2025)
EndedAt: 2025-02-20 03:28:24 -0500 (Thu, 20 Feb 2025)
EllapsedTime: 147.2 seconds
RetCode: 0
Status: OK
CheckDir: tximport.Rcheck
Warnings: 0