Package: tximport Version: 1.35.0 Command: /Library/Frameworks/R.framework/Resources/bin/R CMD build --keep-empty-dirs --no-resave-data tximport StartedAt: 2025-02-19 18:34:59 -0500 (Wed, 19 Feb 2025) EndedAt: 2025-02-19 18:35:55 -0500 (Wed, 19 Feb 2025) EllapsedTime: 56.0 seconds RetCode: 0 Status: OK PackageFile: tximport_1.35.0.tar.gz PackageFileSize: 308.2 <A href="http://en.wikipedia.org/wiki/KiB" target="_blank">KiB</A>