Package: tricycle
Version: 1.15.0
Command: E:\biocbuild\bbs-3.21-bioc\R\bin\R.exe CMD INSTALL tricycle
StartedAt: 2025-02-19 16:49:21 -0500 (Wed, 19 Feb 2025)
EndedAt: 2025-02-19 16:49:59 -0500 (Wed, 19 Feb 2025)
EllapsedTime: 38.2 seconds
RetCode: 0
Status: OK