Package: tricycle Version: 1.15.0 Command: E:\biocbuild\bbs-3.21-bioc\R\bin\R.exe CMD check --no-multiarch --install=check:tricycle.install-out.txt --library=E:\biocbuild\bbs-3.21-bioc\R\library --no-vignettes --timings tricycle_1.15.0.tar.gz StartedAt: 2025-02-20 06:24:51 -0500 (Thu, 20 Feb 2025) EndedAt: 2025-02-20 06:29:55 -0500 (Thu, 20 Feb 2025) EllapsedTime: 303.8 seconds RetCode: 0 Status: OK CheckDir: tricycle.Rcheck Warnings: 0