Package: tricycle
Version: 1.15.0
Command: chmod a+r tricycle -R && E:\biocbuild\bbs-3.21-bioc\R\bin\R.exe CMD build --keep-empty-dirs --no-resave-data tricycle
StartedAt: 2025-02-19 22:11:10 -0500 (Wed, 19 Feb 2025)
EndedAt: 2025-02-19 22:12:35 -0500 (Wed, 19 Feb 2025)
EllapsedTime: 85.1 seconds
RetCode: 0
Status: OK
PackageFile: tricycle_1.15.0.tar.gz
PackageFileSize: 3.646 <A href="http://en.wikipedia.org/wiki/MiB" target="_blank">MiB</A>