Package: tricycle Version: 1.15.0 Command: /Library/Frameworks/R.framework/Resources/bin/R CMD INSTALL tricycle StartedAt: 2025-02-19 15:26:07 -0500 (Wed, 19 Feb 2025) EndedAt: 2025-02-19 15:26:21 -0500 (Wed, 19 Feb 2025) EllapsedTime: 13.3 seconds RetCode: 0 Status: OK