Package: tricycle
Version: 1.15.0
Command: /Library/Frameworks/R.framework/Resources/bin/R CMD check --install=check:tricycle.install-out.txt --library=/Library/Frameworks/R.framework/Resources/library --no-vignettes --timings tricycle_1.15.0.tar.gz
StartedAt: 2025-02-19 21:57:36 -0500 (Wed, 19 Feb 2025)
EndedAt: 2025-02-19 21:59:15 -0500 (Wed, 19 Feb 2025)
EllapsedTime: 99.2 seconds
RetCode: 0
Status: OK
CheckDir: tricycle.Rcheck
Warnings: 0