Package: tricycle
Version: 1.15.0
Command: /Library/Frameworks/R.framework/Resources/bin/R CMD build --keep-empty-dirs --no-resave-data tricycle
StartedAt: 2025-02-19 17:51:36 -0500 (Wed, 19 Feb 2025)
EndedAt: 2025-02-19 17:52:02 -0500 (Wed, 19 Feb 2025)
EllapsedTime: 25.3 seconds
RetCode: 0
Status: OK
PackageFile: tricycle_1.15.0.tar.gz
PackageFileSize: 4.1 <A href="http://en.wikipedia.org/wiki/MiB" target="_blank">MiB</A>