Package: transcriptogramer
Version: 1.29.0
Command: /home/biocbuild/bbs-3.21-bioc/R/bin/R CMD INSTALL transcriptogramer
StartedAt: 2025-02-19 15:38:07 -0500 (Wed, 19 Feb 2025)
EndedAt: 2025-02-19 15:38:33 -0500 (Wed, 19 Feb 2025)
EllapsedTime: 25.8 seconds
RetCode: 0
Status: OK