Package: transcriptogramer Version: 1.29.0 Command: /home/biocbuild/bbs-3.21-bioc/R/bin/R CMD check --install=check:transcriptogramer.install-out.txt --library=/home/biocbuild/bbs-3.21-bioc/R/site-library --timings transcriptogramer_1.29.0.tar.gz StartedAt: 2025-02-20 03:17:28 -0500 (Thu, 20 Feb 2025) EndedAt: 2025-02-20 03:32:54 -0500 (Thu, 20 Feb 2025) EllapsedTime: 926.3 seconds RetCode: 0 Status: OK CheckDir: transcriptogramer.Rcheck Warnings: 0