Package: transcriptogramer Version: 1.29.0 Command: /home/biocbuild/bbs-3.21-bioc/R/bin/R CMD build --keep-empty-dirs --no-resave-data transcriptogramer StartedAt: 2025-02-19 19:35:06 -0500 (Wed, 19 Feb 2025) EndedAt: 2025-02-19 19:46:33 -0500 (Wed, 19 Feb 2025) EllapsedTime: 686.8 seconds RetCode: 0 Status: OK PackageFile: transcriptogramer_1.29.0.tar.gz PackageFileSize: 3.63 <A href="http://en.wikipedia.org/wiki/MiB" target="_blank">MiB</A>