Package: transcriptogramer
Version: 1.29.0
Command: /Library/Frameworks/R.framework/Resources/bin/R CMD INSTALL transcriptogramer
StartedAt: 2025-02-19 15:22:06 -0500 (Wed, 19 Feb 2025)
EndedAt: 2025-02-19 15:22:40 -0500 (Wed, 19 Feb 2025)
EllapsedTime: 34.2 seconds
RetCode: 0
Status: OK