Package: transcriptogramer Version: 1.29.0 Command: rm -rf transcriptogramer.buildbin-libdir && mkdir transcriptogramer.buildbin-libdir && /Users/biocbuild/BBS/utils/build-universal.sh transcriptogramer_1.29.0.tar.gz /Library/Frameworks/R.framework/Resources/bin/R transcriptogramer.buildbin-libdir StartedAt: 2025-02-20 00:59:17 -0500 (Thu, 20 Feb 2025) EndedAt: 2025-02-20 00:59:56 -0500 (Thu, 20 Feb 2025) EllapsedTime: 39.2 seconds RetCode: 0 Status: OK PackageFile: transcriptogramer_1.29.0.tgz PackageFileSize: 5.45 <A href="http://en.wikipedia.org/wiki/MiB" target="_blank">MiB</A>