Package: transcriptogramer
Version: 1.29.0
Command: /home/biocbuild/R/R/bin/R CMD INSTALL transcriptogramer
StartedAt: 2025-01-29 20:03:21 -0000 (Wed, 29 Jan 2025)
EndedAt: 2025-01-29 20:03:56 -0000 (Wed, 29 Jan 2025)
EllapsedTime: 35.3 seconds
RetCode: 0
Status: OK