Package: transcriptogramer
Version: 1.29.0
Command: /home/biocbuild/R/R/bin/R CMD check --install=check:transcriptogramer.install-out.txt --library=/home/biocbuild/R/R/site-library --no-vignettes --timings transcriptogramer_1.29.0.tar.gz
StartedAt: 2025-01-28 16:15:05 -0000 (Tue, 28 Jan 2025)
EndedAt: 2025-01-28 16:20:31 -0000 (Tue, 28 Jan 2025)
EllapsedTime: 326.6 seconds
RetCode: 0
Status: WARNINGS
CheckDir: transcriptogramer.Rcheck
Warnings: 5