Package: transcriptogramer Version: 1.29.0 Command: /home/biocbuild/R/R/bin/R CMD build --keep-empty-dirs --no-resave-data transcriptogramer StartedAt: 2025-01-28 02:59:29 -0000 (Tue, 28 Jan 2025) EndedAt: 2025-01-28 03:19:33 -0000 (Tue, 28 Jan 2025) EllapsedTime: 1204.6 seconds RetCode: 0 Status: OK PackageFile: transcriptogramer_1.29.0.tar.gz PackageFileSize: 3.655 <A href="http://en.wikipedia.org/wiki/MiB" target="_blank">MiB</A>