Package: transcriptogramer
Version: 1.29.0
Command: /Library/Frameworks/R.framework/Resources/bin/R CMD check --install=check:transcriptogramer.install-out.txt --library=/Library/Frameworks/R.framework/Resources/library --no-vignettes --timings transcriptogramer_1.29.0.tar.gz
StartedAt: 2025-02-19 21:55:00 -0500 (Wed, 19 Feb 2025)
EndedAt: 2025-02-19 21:56:23 -0500 (Wed, 19 Feb 2025)
EllapsedTime: 83.0 seconds
RetCode: 0
Status: OK
CheckDir: transcriptogramer.Rcheck
Warnings: 0