##############################################################################
##############################################################################
###
### Running command:
###
###   /Library/Frameworks/R.framework/Resources/bin/R CMD build --keep-empty-dirs --no-resave-data transcriptogramer
###
##############################################################################
##############################################################################


* checking for file ‘transcriptogramer/DESCRIPTION’ ... OK
* preparing ‘transcriptogramer’:
* checking DESCRIPTION meta-information ... OK
* installing the package to build vignettes
* creating vignettes ... OK
* checking for LF line-endings in source and make files and shell scripts
* checking for empty or unneeded directories
* building ‘transcriptogramer_1.29.0.tar.gz’