Package: tpSVG
Version: 1.3.0
Maintainer: Boyi Guo
MaintainerEmail: boyi.guo.work at gmail.com
git_url: https://git.bioconductor.org/packages/tpSVG
git_branch: devel
git_last_commit: 3b8b10d
git_last_commit_date: 2024-10-29 11:28:10 -0500 (Tue, 29 Oct 2024)