Package: topconfects Version: 1.23.2 Command: rm -rf topconfects.buildbin-libdir && mkdir topconfects.buildbin-libdir && E:\biocbuild\bbs-3.21-bioc\R\bin\R.exe CMD INSTALL --build --library=topconfects.buildbin-libdir topconfects_1.23.2.tar.gz StartedAt: 2025-02-05 09:06:25 -0500 (Wed, 05 Feb 2025) EndedAt: 2025-02-05 09:06:53 -0500 (Wed, 05 Feb 2025) EllapsedTime: 28.1 seconds RetCode: 0 Status: OK PackageFile: topconfects_1.23.2.zip PackageFileSize: 1.011 MiB