Package: timecourse Version: 1.79.0 Command: E:\biocbuild\bbs-3.21-bioc\R\bin\R.exe CMD check --no-multiarch --install=check:timecourse.install-out.txt --library=E:\biocbuild\bbs-3.21-bioc\R\library --no-vignettes --timings timecourse_1.79.0.tar.gz StartedAt: 2025-02-20 06:14:33 -0500 (Thu, 20 Feb 2025) EndedAt: 2025-02-20 06:15:28 -0500 (Thu, 20 Feb 2025) EllapsedTime: 55.1 seconds RetCode: 0 Status: OK CheckDir: timecourse.Rcheck Warnings: 0