Package: timecourse
Version: 1.79.0
Command: chmod a+r timecourse -R && E:\biocbuild\bbs-3.21-bioc\R\bin\R.exe CMD build --keep-empty-dirs --no-resave-data timecourse
StartedAt: 2025-02-19 22:06:43 -0500 (Wed, 19 Feb 2025)
EndedAt: 2025-02-19 22:07:15 -0500 (Wed, 19 Feb 2025)
EllapsedTime: 31.9 seconds
RetCode: 0
Status: OK
PackageFile: timecourse_1.79.0.tar.gz
PackageFileSize: 711.3 <A href="http://en.wikipedia.org/wiki/KiB" target="_blank">KiB</A>