Package: timecourse
Version: 1.79.0
Command: rm -rf timecourse.buildbin-libdir && mkdir timecourse.buildbin-libdir && E:\biocbuild\bbs-3.21-bioc\R\bin\R.exe CMD INSTALL --build --library=timecourse.buildbin-libdir timecourse_1.79.0.tar.gz
StartedAt: 2025-02-20 08:56:40 -0500 (Thu, 20 Feb 2025)
EndedAt: 2025-02-20 08:56:53 -0500 (Thu, 20 Feb 2025)
EllapsedTime: 12.6 seconds
RetCode: 0
Status: OK
PackageFile: timecourse_1.79.0.zip
PackageFileSize: 818.5 <A href="http://en.wikipedia.org/wiki/KiB" target="_blank">KiB</A>