Package: timecourse
Version: 1.79.0
Command: /Library/Frameworks/R.framework/Resources/bin/R CMD INSTALL timecourse
StartedAt: 2025-02-18 15:07:07 -0500 (Tue, 18 Feb 2025)
EndedAt: 2025-02-18 15:07:35 -0500 (Tue, 18 Feb 2025)
EllapsedTime: 28.1 seconds
RetCode: 0
Status: OK