Package: timecourse
Version: 1.79.0
Command: /Library/Frameworks/R.framework/Resources/bin/R CMD check --install=check:timecourse.install-out.txt --library=/Library/Frameworks/R.framework/Resources/library --no-vignettes --timings timecourse_1.79.0.tar.gz
StartedAt: 2025-02-18 23:39:59 -0500 (Tue, 18 Feb 2025)
EndedAt: 2025-02-18 23:40:51 -0500 (Tue, 18 Feb 2025)
EllapsedTime: 51.6 seconds
RetCode: 0
Status: OK
CheckDir: timecourse.Rcheck
Warnings: 0