Package: timecourse Version: 1.79.0 Command: /Library/Frameworks/R.framework/Resources/bin/R CMD build --keep-empty-dirs --no-resave-data timecourse StartedAt: 2025-02-18 18:29:09 -0500 (Tue, 18 Feb 2025) EndedAt: 2025-02-18 18:29:30 -0500 (Tue, 18 Feb 2025) EllapsedTime: 20.6 seconds RetCode: 0 Status: OK PackageFile: timecourse_1.79.0.tar.gz PackageFileSize: 840.7 <A href="http://en.wikipedia.org/wiki/KiB" target="_blank">KiB</A>