Package: timecourse
Version: 1.79.0
Command: rm -rf timecourse.buildbin-libdir && mkdir timecourse.buildbin-libdir && /Users/biocbuild/BBS/utils/build-universal.sh timecourse_1.79.0.tar.gz /Library/Frameworks/R.framework/Resources/bin/R timecourse.buildbin-libdir
StartedAt: 2025-02-19 00:51:24 -0500 (Wed, 19 Feb 2025)
EndedAt: 2025-02-19 00:51:34 -0500 (Wed, 19 Feb 2025)
EllapsedTime: 10.4 seconds
RetCode: 0
Status: OK
PackageFile: timecourse_1.79.0.tgz
PackageFileSize: 944.3 <A href="http://en.wikipedia.org/wiki/KiB" target="_blank">KiB</A>