Package: tidySummarizedExperiment
Version: 1.17.0
Maintainer: Stefano Mangiola
MaintainerEmail: mangiolastefano at gmail.com
git_url: https://git.bioconductor.org/packages/tidySummarizedExperiment
git_branch: devel
git_last_commit: 84d246b
git_last_commit_date: 2024-10-29 10:52:49 -0500 (Tue, 29 Oct 2024)