Package: tidyCoverage
Version: 1.3.0
Command: E:\biocbuild\bbs-3.21-bioc\R\bin\R.exe CMD check --no-multiarch --install=check:tidyCoverage.install-out.txt --library=E:\biocbuild\bbs-3.21-bioc\R\library --no-vignettes --timings tidyCoverage_1.3.0.tar.gz
StartedAt: 2025-02-20 06:12:42 -0500 (Thu, 20 Feb 2025)
EndedAt: 2025-02-20 06:36:20 -0500 (Thu, 20 Feb 2025)
EllapsedTime: 1417.9 seconds
RetCode: 0
Status: OK
CheckDir: tidyCoverage.Rcheck
Warnings: 0