Package: tidyCoverage
Version: 1.3.0
Command: chmod a+r tidyCoverage -R && E:\biocbuild\bbs-3.21-bioc\R\bin\R.exe CMD build --keep-empty-dirs --no-resave-data tidyCoverage
StartedAt: 2025-02-19 22:04:50 -0500 (Wed, 19 Feb 2025)
EndedAt: 2025-02-19 22:11:43 -0500 (Wed, 19 Feb 2025)
EllapsedTime: 412.8 seconds
RetCode: 0
Status: OK
PackageFile: tidyCoverage_1.3.0.tar.gz
PackageFileSize: 3.758 <A href="http://en.wikipedia.org/wiki/MiB" target="_blank">MiB</A>