Package: tidyCoverage Version: 1.3.0 Command: rm -rf tidyCoverage.buildbin-libdir && mkdir tidyCoverage.buildbin-libdir && E:\biocbuild\bbs-3.21-bioc\R\bin\R.exe CMD INSTALL --build --library=tidyCoverage.buildbin-libdir tidyCoverage_1.3.0.tar.gz StartedAt: 2025-02-20 08:56:09 -0500 (Thu, 20 Feb 2025) EndedAt: 2025-02-20 08:56:56 -0500 (Thu, 20 Feb 2025) EllapsedTime: 47.0 seconds RetCode: 0 Status: OK PackageFile: tidyCoverage_1.3.0.zip PackageFileSize: 4.07 <A href="http://en.wikipedia.org/wiki/MiB" target="_blank">MiB</A>