Package: target Version: 1.21.0 Command: /Library/Frameworks/R.framework/Resources/bin/R CMD INSTALL target StartedAt: 2025-02-19 15:38:13 -0500 (Wed, 19 Feb 2025) EndedAt: 2025-02-19 15:38:27 -0500 (Wed, 19 Feb 2025) EllapsedTime: 14.5 seconds RetCode: 0 Status: OK