Package: target
Version: 1.21.0
Command: /Library/Frameworks/R.framework/Resources/bin/R CMD check --install=check:target.install-out.txt --library=/Library/Frameworks/R.framework/Resources/library --no-vignettes --timings target_1.21.0.tar.gz
StartedAt: 2025-02-19 23:42:24 -0500 (Wed, 19 Feb 2025)
EndedAt: 2025-02-19 23:43:57 -0500 (Wed, 19 Feb 2025)
EllapsedTime: 92.9 seconds
RetCode: 0
Status: OK
CheckDir: target.Rcheck
Warnings: 0