Package: target
Version: 1.21.0
Command: /home/biocbuild/R/R/bin/R CMD check --install=check:target.install-out.txt --library=/home/biocbuild/R/R/site-library --no-vignettes --timings target_1.21.0.tar.gz
StartedAt: 2025-01-28 16:00:17 -0000 (Tue, 28 Jan 2025)
EndedAt: 2025-01-28 16:02:13 -0000 (Tue, 28 Jan 2025)
EllapsedTime: 116.2 seconds
RetCode: 0
Status: OK
CheckDir: target.Rcheck
Warnings: 0