Package: tRNAdbImport Version: 1.25.0 Command: rm -rf tRNAdbImport.buildbin-libdir && mkdir tRNAdbImport.buildbin-libdir && /Users/biocbuild/BBS/utils/build-universal.sh tRNAdbImport_1.25.0.tar.gz /Library/Frameworks/R.framework/Resources/bin/R tRNAdbImport.buildbin-libdir StartedAt: 2025-02-05 01:07:09 -0500 (Wed, 05 Feb 2025) EndedAt: 2025-02-05 01:07:31 -0500 (Wed, 05 Feb 2025) EllapsedTime: 22.0 seconds RetCode: 0 Status: OK PackageFile: tRNAdbImport_1.25.0.tgz PackageFileSize: 379.1 KiB