Package: tRNAdbImport
Version: 1.25.0
Command: /Library/Frameworks/R.framework/Resources/bin/R CMD INSTALL tRNAdbImport
StartedAt: 2025-02-19 15:06:32 -0500 (Wed, 19 Feb 2025)
EndedAt: 2025-02-19 15:06:39 -0500 (Wed, 19 Feb 2025)
EllapsedTime: 6.1 seconds
RetCode: 0
Status: OK