Package: tRNAdbImport Version: 1.25.0 Command: /Library/Frameworks/R.framework/Resources/bin/R CMD build --keep-empty-dirs --no-resave-data tRNAdbImport StartedAt: 2025-02-19 17:51:55 -0500 (Wed, 19 Feb 2025) EndedAt: 2025-02-19 17:52:08 -0500 (Wed, 19 Feb 2025) EllapsedTime: 13.2 seconds RetCode: 0 Status: OK PackageFile: tRNAdbImport_1.25.0.tar.gz PackageFileSize: 321.8 <A href="http://en.wikipedia.org/wiki/KiB" target="_blank">KiB</A>